BEGIN:VCALENDAR
VERSION:2.0
PRODID:-//MassHire North Shore Career Center - ECPv6.15.18//NONSGML v1.0//EN
CALSCALE:GREGORIAN
METHOD:PUBLISH
X-WR-CALNAME:MassHire North Shore Career Center
X-ORIGINAL-URL:https://masshire-nscareers.org
X-WR-CALDESC:Events for MassHire North Shore Career Center
REFRESH-INTERVAL;VALUE=DURATION:PT1H
X-Robots-Tag:noindex
X-PUBLISHED-TTL:PT1H
BEGIN:VTIMEZONE
TZID:America/New_York
BEGIN:DAYLIGHT
TZOFFSETFROM:-0500
TZOFFSETTO:-0400
TZNAME:EDT
DTSTART:20250309T070000
END:DAYLIGHT
BEGIN:STANDARD
TZOFFSETFROM:-0400
TZOFFSETTO:-0500
TZNAME:EST
DTSTART:20251102T060000
END:STANDARD
BEGIN:DAYLIGHT
TZOFFSETFROM:-0500
TZOFFSETTO:-0400
TZNAME:EDT
DTSTART:20260308T070000
END:DAYLIGHT
BEGIN:STANDARD
TZOFFSETFROM:-0400
TZOFFSETTO:-0500
TZNAME:EST
DTSTART:20261101T060000
END:STANDARD
BEGIN:DAYLIGHT
TZOFFSETFROM:-0500
TZOFFSETTO:-0400
TZNAME:EDT
DTSTART:20270314T070000
END:DAYLIGHT
BEGIN:STANDARD
TZOFFSETFROM:-0400
TZOFFSETTO:-0500
TZNAME:EST
DTSTART:20271107T060000
END:STANDARD
END:VTIMEZONE
BEGIN:VEVENT
DTSTART;TZID=America/New_York:20260520T100000
DTEND;TZID=America/New_York:20260520T110000
DTSTAMP:20260425T071722
CREATED:20260403T133855Z
LAST-MODIFIED:20260403T133855Z
UID:10003462-1779271200-1779274800@masshire-nscareers.org
SUMMARY:Speaking Up—Speaking Well
DESCRIPTION:Clammy hands and cotton mouth? If fear of public speaking is holding you back\, or you’re a seasoned presenter who hasn’t had the chance to practice lately\, this Zoom version of our popular workshop is for you. Limited to eight attendees to ensure maximum interaction\, we’ll warm up with exercises and practice communicating in a supportive\, non-threatening\, and fun environment\, paying attention to “fillers\,” vocal variety\, bridging\, and your online presence. \nImpromptu speaking is a lot like life—you never know what’s around the corner—or what your next interview question will entail. \nYou’ll see an improvement in your ability to think on your feet in your next interview. Each workshop will be different\, so you can participate just once or at every offering.
URL:https://masshire-nscareers.org/event/speaking-up-speaking-well-6/
CATEGORIES:Workshop,Zoom
ATTACH;FMTTYPE=image/jpeg:https://masshire-nscareers.org/wp-content/uploads/pexels-andrea-piacquadio-3761509-scaled.jpg
END:VEVENT
BEGIN:VEVENT
DTSTART;TZID=America/New_York:20260520T113000
DTEND;TZID=America/New_York:20260520T123000
DTSTAMP:20260425T071723
CREATED:20260403T134944Z
LAST-MODIFIED:20260403T134944Z
UID:10003475-1779276600-1779280200@masshire-nscareers.org
SUMMARY:Interviewing Skills
DESCRIPTION:So your résumé got you the interview\, but the résumé only covers roughly one-third of what the interviewing process is all about! We will discuss what you can do before\, during\, and after the interview to boost your chances of standing out. We will take a look at the types and areas of questions\, and recommendations for your answers. You will also pick up functional approaches to the questions of your own—since it’s a two-way street\, like any conversation.
URL:https://masshire-nscareers.org/event/interviewing-skills-5/
CATEGORIES:Workshop,Zoom
ATTACH;FMTTYPE=image/jpeg:https://masshire-nscareers.org/wp-content/uploads/job-applicant-passing-her-documents-3760072.jpg
END:VEVENT
BEGIN:VEVENT
DTSTART;TZID=America/New_York:20260521T100000
DTEND;TZID=America/New_York:20260521T110000
DTSTAMP:20260425T071723
CREATED:20260403T133603Z
LAST-MODIFIED:20260403T133603Z
UID:10003465-1779357600-1779361200@masshire-nscareers.org
SUMMARY:Interviewing Practice
DESCRIPTION:Get ready to get and give feedback in our interactive Zoom workshop\, limited to eight participants to allow for maximum interaction. \nAfter a short review of interviewing tips\, we will role play (mock interviews) and get and give feedback. The most productive way to give feedback: What did you like? What suggestions do you have for next time? Giving constructive feedback is not being critical—it is a mutually supportive process. \nRemember: The medium is the message—you’ll have an opportunity to become more comfortable with your online presence\, as well. You don’t want to end up looking like what Room Rater (Twitter) calls a “hostage video.”
URL:https://masshire-nscareers.org/event/interviewing-practice-7/
CATEGORIES:Workshop,Zoom
ATTACH;FMTTYPE=image/jpeg:https://masshire-nscareers.org/wp-content/uploads/man-in-black-suit-jacket-while-wearing-white-headphones-3778844.jpg
END:VEVENT
BEGIN:VEVENT
DTSTART;TZID=America/New_York:20260521T113000
DTEND;TZID=America/New_York:20260521T123000
DTSTAMP:20260425T071723
CREATED:20260403T135411Z
LAST-MODIFIED:20260403T135411Z
UID:10003481-1779363000-1779366600@masshire-nscareers.org
SUMMARY:The Smart Job Search: AI and Human Intelligence
DESCRIPTION:With all those new AI-powered tools out there\, why not combine them with your own smarts in your job search. In this webinar\, we explore key AI capabilities\, from chatbots to AI-powered interviewing platforms. Find out how to apply your own intelligence to make AI your unique personal assistant. We will give you a live demo of several websites that use AI\, with pointers in even more directions for your own journey. We also look at areas where human qualities definitely outshine AI. Join us for this webinar\, and enhance your job-search strategies by combining the immense potential of AI with your own human abilities.
URL:https://masshire-nscareers.org/event/the-smart-job-search-ai-and-human-intelligence-5/
CATEGORIES:Workshop,Zoom
ATTACH;FMTTYPE=image/jpeg:https://masshire-nscareers.org/wp-content/uploads/Bionic-and-human-hand-scaled.jpg
END:VEVENT
BEGIN:VEVENT
DTSTART;TZID=America/New_York:20260526T100000
DTEND;TZID=America/New_York:20260526T110000
DTSTAMP:20260425T071723
CREATED:20260403T133938Z
LAST-MODIFIED:20260403T133938Z
UID:10003461-1779789600-1779793200@masshire-nscareers.org
SUMMARY:Coping with Job Loss and Managing Your Time
DESCRIPTION:Losing your job is a lot like a divorce or death\, and presents multiple financial and social challenges\, all of which are magnified tenfold with the pandemic. \nIn this interactive Zoom webinar\, limited to eight people to ensure maximum interaction\, we will talk about the negatives and positives of how you’re handling your situation. How are you building structure into your life? What have you found to be helpful and where do you need help? \nWe’ll also touch on the Covey Quadrant (from Stephen Covey’s book\, The Seven Habits of Highly Effective People) as a means of effectively managing your time.
URL:https://masshire-nscareers.org/event/coping-with-job-loss-and-managing-your-time-4/
CATEGORIES:Workshop,Zoom
ATTACH;FMTTYPE=image/jpeg:https://masshire-nscareers.org/wp-content/uploads/Coping-with-Job-Loss.jpg
END:VEVENT
BEGIN:VEVENT
DTSTART;TZID=America/New_York:20260526T113000
DTEND;TZID=America/New_York:20260526T123000
DTSTAMP:20260425T071723
CREATED:20260403T135122Z
LAST-MODIFIED:20260403T135122Z
UID:10003477-1779795000-1779798600@masshire-nscareers.org
SUMMARY:Turbo-Charge Your Résumé Content
DESCRIPTION:Does your résumé do a good job at portraying the resourceful and effective professional you are? Oftentimes\, highly qualified job seekers are not seen by employers because the presentation is “off.” Worse yet: Sometimes\, good candidates package their greatest assets in ways that cause the résumé to backfire. This webinar will help you identify powerful verbiage that gives you a real shot at piquing the employer’s interest. You will come away knowing how to infuse your résumé with a vibrant value proposition showing you are the solution to the employer’s needs. \n  \nThis is one of our two résumé-themed webinars. Our other résumé-themed webinar is Get Your Résumé Runway-Ready. We strongly suggest that webinar as well. It is about getting your résumé to stand out with fresh and eye-popping looks.
URL:https://masshire-nscareers.org/event/turbo-charge-your-resume-content-9/
CATEGORIES:Workshop,Zoom
ATTACH;FMTTYPE=image/jpeg:https://masshire-nscareers.org/wp-content/uploads/Companion-Pic-for-Website-1.jpg
END:VEVENT
BEGIN:VEVENT
DTSTART;TZID=America/New_York:20260527T100000
DTEND;TZID=America/New_York:20260527T110000
DTSTAMP:20260425T071723
CREATED:20260403T133300Z
LAST-MODIFIED:20260403T133300Z
UID:10003471-1779876000-1779879600@masshire-nscareers.org
SUMMARY:Using Age to Your Advantage
DESCRIPTION:What we focus on expands. \nIn your job search\, are you focusing on potential age barriers or what you bring to the table? It’s all about attitude\, the scripts we run through our heads\, and the filters through which we see ourselves and our challenges. \nIn this interactive Zoom workshop\, limited to eight people to ensure maximum participation\, we’ll talk about perception versus reality\, visualization\, and self-fulfilling prophecies. \nRemember\, your attitude determines whether you see your challenge as an ordeal or an adventure.
URL:https://masshire-nscareers.org/event/using-age-to-your-advantage-7/
CATEGORIES:Workshop,Zoom
ATTACH;FMTTYPE=image/jpeg:https://masshire-nscareers.org/wp-content/uploads/Older-Workers.jpg
END:VEVENT
BEGIN:VEVENT
DTSTART;TZID=America/New_York:20260527T113000
DTEND;TZID=America/New_York:20260527T123000
DTSTAMP:20260425T071723
CREATED:20260403T134626Z
LAST-MODIFIED:20260403T134626Z
UID:10003482-1779881400-1779885000@masshire-nscareers.org
SUMMARY:Optimism and Your Job Search
DESCRIPTION:Dealing with ambiguity can be challenging\, and the “whole job-search thing” is drenched in ambiguity. Things happen (or don’t happen)\, and you wonder why (not). The conclusions you draw can have a dramatic impact on your next move. That’s where optimism comes in. Optimism is not about ignoring problems; it is about dealing with them in ways that keep options open. In this webinar\, we will look at ways to stay optimistic\, and keep going\, through hard times.
URL:https://masshire-nscareers.org/event/optimism-and-your-job-search-2/
CATEGORIES:Workshop,Zoom
ATTACH;FMTTYPE=image/jpeg:https://masshire-nscareers.org/wp-content/uploads/backlit-dawn-foggy-friendship.jpg
END:VEVENT
BEGIN:VEVENT
DTSTART;TZID=America/New_York:20260528T100000
DTEND;TZID=America/New_York:20260528T110000
DTSTAMP:20260425T071723
CREATED:20260403T133645Z
LAST-MODIFIED:20260403T133645Z
UID:10003464-1779962400-1779966000@masshire-nscareers.org
SUMMARY:Interviewing Practice
DESCRIPTION:Get ready to get and give feedback in our interactive Zoom workshop\, limited to eight participants to allow for maximum interaction. \nAfter a short review of interviewing tips\, we will role play (mock interviews) and get and give feedback. The most productive way to give feedback: What did you like? What suggestions do you have for next time? Giving constructive feedback is not being critical—it is a mutually supportive process. \nRemember: The medium is the message—you’ll have an opportunity to become more comfortable with your online presence\, as well. You don’t want to end up looking like what Room Rater (Twitter) calls a “hostage video.”
URL:https://masshire-nscareers.org/event/interviewing-practice-15/
CATEGORIES:Workshop,Zoom
ATTACH;FMTTYPE=image/jpeg:https://masshire-nscareers.org/wp-content/uploads/man-in-black-suit-jacket-while-wearing-white-headphones-3778844.jpg
END:VEVENT
BEGIN:VEVENT
DTSTART;TZID=America/New_York:20260528T113000
DTEND;TZID=America/New_York:20260528T123000
DTSTAMP:20260425T071723
CREATED:20260403T135522Z
LAST-MODIFIED:20260403T135522Z
UID:10003484-1779967800-1779971400@masshire-nscareers.org
SUMMARY:Boost Your Job Search with LinkedIn
DESCRIPTION:For most career professionals\, LinkedIn is the social-professional network to be part of. The COVID-19 pandemic has made it all the more clear: It is critically important to have a strong digital presence\, and leverage the virtual arena for your career-advancement activity. In this webinar\, you will find out what makes your professional profile compelling and attractive. You will also come away with strategic and tactical moves to engage with LinkedIn so your next gainful opportunity can find you sooner.
URL:https://masshire-nscareers.org/event/boost-your-job-search-with-linkedin-2/
CATEGORIES:Workshop,Zoom
ATTACH;FMTTYPE=image/jpeg:https://masshire-nscareers.org/wp-content/uploads/inlytics-Z7MNWch3LPs-unsplash.jpg
END:VEVENT
END:VCALENDAR