BEGIN:VCALENDAR
VERSION:2.0
PRODID:-//MassHire North Shore Career Center - ECPv6.15.18//NONSGML v1.0//EN
CALSCALE:GREGORIAN
METHOD:PUBLISH
X-WR-CALNAME:MassHire North Shore Career Center
X-ORIGINAL-URL:https://masshire-nscareers.org
X-WR-CALDESC:Events for MassHire North Shore Career Center
REFRESH-INTERVAL;VALUE=DURATION:PT1H
X-Robots-Tag:noindex
X-PUBLISHED-TTL:PT1H
BEGIN:VTIMEZONE
TZID:America/New_York
BEGIN:DAYLIGHT
TZOFFSETFROM:-0500
TZOFFSETTO:-0400
TZNAME:EDT
DTSTART:20250309T070000
END:DAYLIGHT
BEGIN:STANDARD
TZOFFSETFROM:-0400
TZOFFSETTO:-0500
TZNAME:EST
DTSTART:20251102T060000
END:STANDARD
BEGIN:DAYLIGHT
TZOFFSETFROM:-0500
TZOFFSETTO:-0400
TZNAME:EDT
DTSTART:20260308T070000
END:DAYLIGHT
BEGIN:STANDARD
TZOFFSETFROM:-0400
TZOFFSETTO:-0500
TZNAME:EST
DTSTART:20261101T060000
END:STANDARD
BEGIN:DAYLIGHT
TZOFFSETFROM:-0500
TZOFFSETTO:-0400
TZNAME:EDT
DTSTART:20270314T070000
END:DAYLIGHT
BEGIN:STANDARD
TZOFFSETFROM:-0400
TZOFFSETTO:-0500
TZNAME:EST
DTSTART:20271107T060000
END:STANDARD
END:VTIMEZONE
BEGIN:VEVENT
DTSTART;TZID=America/New_York:20260127T100000
DTEND;TZID=America/New_York:20260127T110000
DTSTAMP:20260425T104437
CREATED:20251204T204035Z
LAST-MODIFIED:20251204T204035Z
UID:10003375-1769508000-1769511600@masshire-nscareers.org
SUMMARY:Coping with Job Loss and Managing Your Time
DESCRIPTION:Losing your job is a lot like a divorce or death\, and presents multiple financial and social challenges\, all of which are magnified tenfold with the pandemic. \nIn this interactive Zoom webinar\, limited to eight people to ensure maximum interaction\, we will talk about the negatives and positives of how you’re handling your situation. How are you building structure into your life? What have you found to be helpful and where do you need help? \nWe’ll also touch on the Covey Quadrant (from Stephen Covey’s book\, The Seven Habits of Highly Effective People) as a means of effectively managing your time.
URL:https://masshire-nscareers.org/event/coping-with-job-loss-and-managing-your-time-7/
CATEGORIES:Workshop,Zoom
ATTACH;FMTTYPE=image/jpeg:https://masshire-nscareers.org/wp-content/uploads/Coping-with-Job-Loss.jpg
END:VEVENT
END:VCALENDAR